BEGIN:VCALENDAR
VERSION:2.0
PRODID:City of Calabasas, CA Calendar Creator
METHOD:PUBLISH
BEGIN:VEVENT
DTSTAMP:20260326T150112
DTSTART:20260402T180000
DTEND:20260402T235900
SUMMARY:Planning Commission - Cancelled
DESCRIPTION:<p align="center" style="text-align: left;"></p><p align="center" style="text-align: left;"><a href="https://calabasas.prod-as.govaccess.org/government/meeting-agendas">Meeting Agenda Portal</a></p>
X-ALT-DESC;FMTTYPE=text/html:<p align="center" style="text-align: left;"></p><p align="center" style="text-align: left;"><a href="https://calabasas.prod-as.govaccess.org/government/meeting-agendas">Meeting Agenda Portal</a></p>
LOCATION:Calabasas City Hall\, 100 Civic Center Way Calabasas\, California 91302
CLASS:PUBLIC
END:VEVENT
END:VCALENDAR
