BEGIN:VCALENDAR
VERSION:2.0
PRODID:City of Calabasas, CA Calendar Creator
METHOD:PUBLISH
BEGIN:VEVENT
DTSTAMP:20251104T182152
DTSTART:20260428T180000
DTEND:20260428T180000
SUMMARY:Traffic & Transportation Commission
DESCRIPTION:&nbsp;<p align="center"></p><p align="center">&nbsp;</p>
X-ALT-DESC;FMTTYPE=text/html:&nbsp;<p align="center"></p><p align="center">&nbsp;</p>
LOCATION:Calabasas City Hall\, 100 Civic Center Way Calabasas\, California 91302
CLASS:PUBLIC
END:VEVENT
END:VCALENDAR
