BEGIN:VCALENDAR
VERSION:2.0
PRODID:City of Calabasas, CA Calendar Creator
METHOD:PUBLISH
BEGIN:VEVENT
DTSTAMP:20260219T105754
DTSTART:20260407T173000
DTEND:20260407T235900
SUMMARY:I Love Lasers: Dr Bradley Bobbs Lecture
DESCRIPTION:<p data-olk-copy-source="MessageBody" style="text-align: center;"><strong>I Love Lasers: Dr Bradley Bobbs Lecture</strong></p><p style="text-align: center;">April 7 at 5:30 p.m.</p><p style="text-align: center;">In Multi-purpose room at the Calabasas Library</p><p style="text-align: center;">No reservations required</p><p style="text-align: center;">&nbsp;</p><p data-olk-copy-source="MessageBody" style="text-align: center;">Lasers I Have Loved:&nbsp;Gripping tales from the thrilling life of a laser physicist</p><p aria-hidden="true" style="text-align: center;">&nbsp;</p><p style="text-align: center;">Hear about some of the more interesting lasers that Dr. Bobbs has encountered (or invented) during his career. You’ll hear stories about the golden-rectangle laser, the edible laser,&nbsp;the dog-replacement laser, and many more.&nbsp;</p><p style="text-align: center;">&nbsp;</p><p style="text-align: center;"></p><p style="text-align: center;">&nbsp;</p><p style="text-align: center;">These lectures are designed to explain physics in a way that is understandable to any adult, regardless of science or math background (or lack thereof).<br>While aimed at adults, they are also suitable for exceptionally inquisitive teens.&nbsp; Replete with cartoons, jokes, trivia, cultural references, and historical and personal anecdotes, these lectures have been found by past audiences to be very entertaining as well as enlightening.&nbsp;</p><p style="text-align: center;">&nbsp;</p><p style="text-align: center;"></p><p data-olk-copy-source="MessageBody" style="text-align: center;">Dr. Bradley Bobbs holds a PhD in Physics from UCLA and a BS in Physics from Harvey Mudd College. He has a long career researching laser and electro-optical physics in the Los Angeles area, currently as Senior Scientist at Intelligent Optical Systems in Gardena. He has been Adjunct Professor of Physics at Moorpark College and California Lutheran University, and was a Teaching Assistant while studying at UCLA and Harvey Mudd College. He is also known for his passionate or humorous poetry recitations, parody songs, comedy, and stories. Dr. Bobbs has been active in the Calabasas community since 2002.&nbsp;</p><p style="text-align: center;">&nbsp;</p><p style="text-align: center;">Sponsored by the Friends of the Calabasas Library</p>
X-ALT-DESC;FMTTYPE=text/html:<p data-olk-copy-source="MessageBody" style="text-align: center;"><strong>I Love Lasers: Dr Bradley Bobbs Lecture</strong></p><p style="text-align: center;">April 7 at 5:30 p.m.</p><p style="text-align: center;">In Multi-purpose room at the Calabasas Library</p><p style="text-align: center;">No reservations required</p><p style="text-align: center;">&nbsp;</p><p data-olk-copy-source="MessageBody" style="text-align: center;">Lasers I Have Loved:&nbsp;Gripping tales from the thrilling life of a laser physicist</p><p aria-hidden="true" style="text-align: center;">&nbsp;</p><p style="text-align: center;">Hear about some of the more interesting lasers that Dr. Bobbs has encountered (or invented) during his career. You’ll hear stories about the golden-rectangle laser, the edible laser,&nbsp;the dog-replacement laser, and many more.&nbsp;</p><p style="text-align: center;">&nbsp;</p><p style="text-align: center;"></p><p style="text-align: center;">&nbsp;</p><p style="text-align: center;">These lectures are designed to explain physics in a way that is understandable to any adult, regardless of science or math background (or lack thereof).<br>While aimed at adults, they are also suitable for exceptionally inquisitive teens.&nbsp; Replete with cartoons, jokes, trivia, cultural references, and historical and personal anecdotes, these lectures have been found by past audiences to be very entertaining as well as enlightening.&nbsp;</p><p style="text-align: center;">&nbsp;</p><p style="text-align: center;"></p><p data-olk-copy-source="MessageBody" style="text-align: center;">Dr. Bradley Bobbs holds a PhD in Physics from UCLA and a BS in Physics from Harvey Mudd College. He has a long career researching laser and electro-optical physics in the Los Angeles area, currently as Senior Scientist at Intelligent Optical Systems in Gardena. He has been Adjunct Professor of Physics at Moorpark College and California Lutheran University, and was a Teaching Assistant while studying at UCLA and Harvey Mudd College. He is also known for his passionate or humorous poetry recitations, parody songs, comedy, and stories. Dr. Bobbs has been active in the Calabasas community since 2002.&nbsp;</p><p style="text-align: center;">&nbsp;</p><p style="text-align: center;">Sponsored by the Friends of the Calabasas Library</p>
LOCATION:
CLASS:PUBLIC
END:VEVENT
END:VCALENDAR
