BEGIN:VCALENDAR
VERSION:2.0
PRODID:City of Calabasas, CA Calendar Creator
METHOD:PUBLISH
BEGIN:VEVENT
DTSTAMP:20260317T144619
DTSTART:20260420T183000
DTEND:20260420T195900
SUMMARY:Library Commission Meeting Canceled
DESCRIPTION:
X-ALT-DESC;FMTTYPE=text/html:
LOCATION:Calabasas City Hall\, 100 Civic Center Way Calabasas\, California 91302
CLASS:PUBLIC
END:VEVENT
END:VCALENDAR
