BEGIN:VCALENDAR
VERSION:2.0
PRODID:City of Calabasas, CA Calendar Creator
METHOD:PUBLISH
BEGIN:VEVENT
DTSTAMP:20260318T123652
DTSTART:20260401T173000
DTEND:20260401T235900
SUMMARY:DIY Craft Event for Adults
DESCRIPTION:<h3 style="text-align: center;">DIY Craft Event for Adults</h3><p style="text-align: center;">Wednesday, April 1 at 5:30 p.m.</p><p style="text-align: center;">In the Multi-Purpose Room.</p><p aria-hidden="true" style="text-align: center;"></p><p aria-hidden="true" style="text-align: center;">Part two of the bedazzled book craft. &nbsp;Please bring the project you were working on.&nbsp;</p><p aria-hidden="true" style="text-align: center;">&nbsp;</p><p aria-hidden="true" style="text-align: center;"></p><p style="text-align: center;">We will also be creating a foiled “stain glass” picture.</p><p aria-hidden="true" style="text-align: center;">&nbsp;</p><p style="text-align: center;">Supplies will be provided for both projects.</p><p style="text-align: center;">No reservations needed.</p><p style="text-align: center;">Sponsored by the Friends of the Library</p>
X-ALT-DESC;FMTTYPE=text/html:<h3 style="text-align: center;">DIY Craft Event for Adults</h3><p style="text-align: center;">Wednesday, April 1 at 5:30 p.m.</p><p style="text-align: center;">In the Multi-Purpose Room.</p><p aria-hidden="true" style="text-align: center;"></p><p aria-hidden="true" style="text-align: center;">Part two of the bedazzled book craft. &nbsp;Please bring the project you were working on.&nbsp;</p><p aria-hidden="true" style="text-align: center;">&nbsp;</p><p aria-hidden="true" style="text-align: center;"></p><p style="text-align: center;">We will also be creating a foiled “stain glass” picture.</p><p aria-hidden="true" style="text-align: center;">&nbsp;</p><p style="text-align: center;">Supplies will be provided for both projects.</p><p style="text-align: center;">No reservations needed.</p><p style="text-align: center;">Sponsored by the Friends of the Library</p>
LOCATION:Calabasas Library\, 200 Civic Center Way Calabasas\, California 91302
CLASS:PUBLIC
END:VEVENT
END:VCALENDAR
