BEGIN:VCALENDAR
VERSION:2.0
PRODID:City of Calabasas, CA Calendar Creator
METHOD:PUBLISH
BEGIN:VEVENT
DTSTAMP:20260409T170612
DTSTART:20260425T090000
DTEND:20260425T120000
SUMMARY:Show Your Parks Some Love
DESCRIPTION:<p style="text-align: center;">In collaboration with the Environmental Commission and the Parks, Recreation, and Education Commission, join us on&nbsp;<b>Saturday, April 25, 2026</b>, from 9:00 a.m. to 12:00 p.m. at De Anza Park for The National Recreation and Parks Association grant funded event –&nbsp;<i>Show Your Park Some Love</i>. This event will feature:</p><ul type="disc" style="margin-left: 320px;">    <li style="text-align: left;">Recycling activities</li>    <li style="text-align: left;">Touch a truck and inflatables</li>    <li style="text-align: left;">Big Belly trash bin showcase</li>    <li style="text-align: left;">Environmental agencies and partners</li></ul><p>&nbsp;</p><p><p style="text-align: center;"></p></p><p>&nbsp;</p><ul type="disc"></ul>
X-ALT-DESC;FMTTYPE=text/html:<p style="text-align: center;">In collaboration with the Environmental Commission and the Parks, Recreation, and Education Commission, join us on&nbsp;<b>Saturday, April 25, 2026</b>, from 9:00 a.m. to 12:00 p.m. at De Anza Park for The National Recreation and Parks Association grant funded event –&nbsp;<i>Show Your Park Some Love</i>. This event will feature:</p><ul type="disc" style="margin-left: 320px;">    <li style="text-align: left;">Recycling activities</li>    <li style="text-align: left;">Touch a truck and inflatables</li>    <li style="text-align: left;">Big Belly trash bin showcase</li>    <li style="text-align: left;">Environmental agencies and partners</li></ul><p>&nbsp;</p><p><p style="text-align: center;"></p></p><p>&nbsp;</p><ul type="disc"></ul>
LOCATION:
CLASS:PUBLIC
END:VEVENT
END:VCALENDAR
